BEGIN:VCALENDAR
VERSION:2.0
PRODID:-//wp-events-plugin.com//7.2.3.1//EN
TZID:Europe/Berlin
X-WR-TIMEZONE:Europe/Berlin
BEGIN:VEVENT
UID:66@haus17.fh-potsdam.de
DTSTART;TZID=Europe/Berlin;VALUE=DATE:20251029
DTEND;TZID=Europe/Berlin;VALUE=DATE:20251030
DTSTAMP:20251008T140738Z
URL:https://haus17.fh-potsdam.de/ueber-uns/termine/asta-says-hi-visit-das-
 minsk-art-house-in-potsdam/
SUMMARY:AStA says Hi! Free English Tour through DAS MINSK Museum in Potsdam
DESCRIPTION:Join us for tour through the current exhibition at DAS MINSK Mu
 seum Wohnkomplex: Art and Life in Plattenbau !After the tour we'll have t
 ime to explore the museum on our own terms and socialize. Don’t miss thi
 s chance to explore one of the city’s cultural highlights with fellow st
 udents!\n\n\n 	We will Meet at 2:30 pm\n 	Registration:https://forms.offic
 e.com/e/DEF7Bjei0G\n 	Further details about the schedule and meeting point
  will be shared with all registered participants via Mail.\n\nWe bring stu
 dents together – creating opportunities for networking\, cultural exchan
 ge\, and a strong sense of belonging within FHP’s diverse and welcoming 
 community. Organized by AStA and supported by the International Office\, t
 his event is primarily aimed at international students – but everyone i
 s warmly invited to join. If you are preparing for a semester abroad\, th
 ese events also offer valuable first-hand insights into international stud
 y experiences.\n\n\n\nKommt mit uns zu einer Führung durch die aktuelle A
 usstellung im DAS MINSK Museum Wohnkomplex: Kunst und Leben im Plattenbau!
 \nNach dem Rundgang haben wir Zeit\, das Museum auf eigene Faust zu erkund
 en und uns kennenzulernen.\n\n 	Wir treffen uns um 14:30 Uhr\n 	Anmeldung:
  https://forms.office.com/e/DEF7Bjei0G\n 	Weitere Details zum Ablauf und z
 um Treffpunkt werden allen angemeldeten Teilnehmern per E-Mail mitgeteilt.
 \n\nWir bringen Studierende zusammen – und schaffen Möglichkeiten für 
 Vernetzung\, kulturellen Austausch und ein starkes Gefühl der Zugehörigk
 eit innerhalb der vielfältigen und offenen Gemeinschaft an der FHP. Organ
 isiert vom AStA und unterstützt vom International Office richtet sich die
 se Veranstaltung in erster Linie an internationale Studierende – aber al
 le Interessierten sind herzlich eingeladen teilzunehmen. Für alle\, die s
 ich auf ein Auslandssemester vorbereiten\, bieten diese Events zudem wertv
 olle Einblicke aus erster Hand in internationale Studienerfahrungen.
ATTACH;FMTTYPE=image/jpeg:https://haus17.fh-potsdam.de/wp-content/uploads/
 2024/09/standbild.png
CATEGORIES:Fachbereichsübergreifendes
END:VEVENT
BEGIN:VTIMEZONE
TZID:Europe/Berlin
X-LIC-LOCATION:Europe/Berlin
BEGIN:STANDARD
DTSTART:20251026T020000
TZOFFSETFROM:+0200
TZOFFSETTO:+0100
TZNAME:CET
END:STANDARD
END:VTIMEZONE
END:VCALENDAR