BEGIN:VCALENDAR
VERSION:2.0
PRODID:-//wp-events-plugin.com//7.2.3.1//EN
TZID:Europe/Berlin
X-WR-TIMEZONE:Europe/Berlin
BEGIN:VEVENT
UID:57@haus17.fh-potsdam.de
DTSTART;TZID=Europe/Berlin;VALUE=DATE:20251031
DTEND;TZID=Europe/Berlin;VALUE=DATE:20251101
DTSTAMP:20251008T134903Z
URL:https://haus17.fh-potsdam.de/ueber-uns/termine/asta-says-hi-sv-babelsb
 erg-soccer-match/
SUMMARY:AStA says Hi! Watch a Babelsberg 03 Soccer Match for free
DESCRIPTION:Join us for an exciting match with one of Potsdam’s most icon
 ic football clubs — SV Babelsberg 03!Known for its anti-fascist and anti
 -racist values as well as its strong social commitment\, the club represen
 ts more than just football – it’s a community.\nCome along with fellow
  students and experience the unique atmosphere of local football culture 
 – an unforgettable part of life in Potsdam.\n\n\n 	Registration: https:/
 /forms.office.com/e/wa4Q6YFN0L\n 	Further details about the schedule and m
 eeting point will be shared with all registered participants.\n\nWe bring 
 students together – creating opportunities for networking\, cultural exc
 hange\, and a strong sense of belonging within FHP’s diverse and welcomi
 ng community. Organized by AStA and supported by the International Office\
 , this event is primarily aimed at international students – but everyon
 e is warmly invited to join. If you are preparing for a semester abroad\,
  these events also offer valuable first-hand insights into international s
 tudy experiences.\n\n&nbsp\;\n\n\n\nKommt mit uns zu einem spannenden Spie
 l eines der bekanntesten Fußballvereine Potsdams – SV Babelsberg 03!Der
  Club ist bekannt für seine antifaschistischen und antirassistischen Wert
 e sowie sein soziales Engagement – er steht für weit mehr als nur Fußb
 all.\nErlebe gemeinsam mit anderen Studierenden die einzigartige Atmosphä
 re der lokalen Fußballkultur – ein unvergesslicher Teil des Lebens in P
 otsdam.\n\n\n 	Anmeldung: https://forms.office.com/e/wa4Q6YFN0L\n 	Weitere
  Informationen zu Ablauf und Treffpunkt werden allen angemeldeten Teilnehm
 enden rechtzeitig mitgeteilt.\n\nWir bringen Studierende zusammen – und 
 schaffen Möglichkeiten für Vernetzung\, kulturellen Austausch und ein st
 arkes Gefühl der Zugehörigkeit innerhalb der vielfältigen und offenen G
 emeinschaft an der FHP. Organisiert vom AStA und unterstützt vom Internat
 ional Office richtet sich diese Veranstaltung in erster Linie an internati
 onale Studierende – aber alle Interessierten sind herzlich eingeladen te
 ilzunehmen. Für alle\, die sich auf ein Auslandssemester vorbereiten\, bi
 eten diese Events zudem wertvolle Einblicke aus erster Hand in internation
 ale Studienerfahrungen.
ATTACH;FMTTYPE=image/jpeg:https://haus17.fh-potsdam.de/wp-content/uploads/
 2024/09/standbild.png
CATEGORIES:Fachbereichsübergreifendes
END:VEVENT
BEGIN:VTIMEZONE
TZID:Europe/Berlin
X-LIC-LOCATION:Europe/Berlin
BEGIN:STANDARD
DTSTART:20251026T020000
TZOFFSETFROM:+0200
TZOFFSETTO:+0100
TZNAME:CET
END:STANDARD
END:VTIMEZONE
END:VCALENDAR