BEGIN:VCALENDAR
VERSION:2.0
PRODID:-//wp-events-plugin.com//7.2.3.1//EN
TZID:Europe/Berlin
X-WR-TIMEZONE:Europe/Berlin
BEGIN:VEVENT
UID:58@haus17.fh-potsdam.de
DTSTART;TZID=Europe/Berlin;VALUE=DATE:20251108
DTEND;TZID=Europe/Berlin;VALUE=DATE:20251109
DTSTAMP:20251013T171601Z
URL:https://haus17.fh-potsdam.de/ueber-uns/termine/asta-says-hi-guided-cit
 y-tour-queer-berlin-in-english/
SUMMARY:AStA says Hi! Free English City Tour – Queer Berlin
DESCRIPTION:Guided City Tour – Queer Berlin (in English)\nDiscover Berlin
  from a new perspective! Join us for a guided city tour that explores the 
 history\, culture\, and everyday life of queer communities in Berlin. From
  hidden stories to iconic places\, this tour offers insights into the city
 ’s diverse and vibrant queer history.\n\n\n 	Registration: https://forms
 .office.com/e/XHUbYmjzN2\n 	Further details about the schedule and meeting
  point will be shared with all registered participants.\n\nWe bring studen
 ts together – creating opportunities for networking\, cultural exchange\
 , and a strong sense of belonging within FHP’s diverse and welcoming com
 munity. Organized by AStA and supported by the International Office\, this
  event is primarily aimed at international students – but everyone is w
 armly invited to join. If you are preparing for a semester abroad\, these
  events also offer valuable first-hand insights into international study e
 xperiences.\n\n\nEntdecke Berlin aus einer neuen Perspektive! Nimm an eine
 r geführten Stadttour teil\, die die Geschichte\, Kultur und das Alltagsl
 eben queerer Communities in Berlin beleuchtet. Von verborgenen Geschichten
  bis zu ikonischen Orten bietet diese Tour spannende Einblicke in die viel
 fältige und lebendige queere Geschichte der Stadt.\n\n\n 	Die Tour findet
  auf Englisch statt.\n 	Anmeldung: https://forms.office.com/e/XHUbYmjzN2\n
  	Weitere Informationen zu Ablauf und Treffpunkt werden allen angemeldeten
  Teilnehmenden rechtzeitig mitgeteilt.\n\nWir bringen Studierende zusammen
  – und schaffen Möglichkeiten für Vernetzung\, kulturellen Austausch u
 nd ein starkes Gefühl der Zugehörigkeit innerhalb der vielfältigen und 
 offenen Gemeinschaft an der FHP. Organisiert vom AStA und unterstützt vom
  International Office richtet sich diese Veranstaltung in erster Linie an 
 internationale Studierende – aber alle Interessierten sind herzlich eing
 eladen teilzunehmen. Für alle\, die sich auf ein Auslandssemester vorbere
 iten\, bieten diese Events zudem wertvolle Einblicke aus erster Hand in in
 ternationale Studienerfahrungen.\n
ATTACH;FMTTYPE=image/jpeg:https://haus17.fh-potsdam.de/wp-content/uploads/
 2024/09/standbild.png
CATEGORIES:Fachbereichsübergreifendes
END:VEVENT
BEGIN:VTIMEZONE
TZID:Europe/Berlin
X-LIC-LOCATION:Europe/Berlin
BEGIN:STANDARD
DTSTART:20251026T020000
TZOFFSETFROM:+0200
TZOFFSETTO:+0100
TZNAME:CET
END:STANDARD
END:VTIMEZONE
END:VCALENDAR